BEGIN:VCALENDAR
VERSION:2.0
PRODID:-//Cleveland Coatings Society - ECPv6.15.20//NONSGML v1.0//EN
CALSCALE:GREGORIAN
METHOD:PUBLISH
X-WR-CALNAME:Cleveland Coatings Society
X-ORIGINAL-URL:https://clevelandcoatingssociety.org
X-WR-CALDESC:Events for Cleveland Coatings Society
REFRESH-INTERVAL;VALUE=DURATION:PT1H
X-Robots-Tag:noindex
X-PUBLISHED-TTL:PT1H
BEGIN:VTIMEZONE
TZID:America/New_York
BEGIN:DAYLIGHT
TZOFFSETFROM:-0500
TZOFFSETTO:-0400
TZNAME:EDT
DTSTART:20240310T070000
END:DAYLIGHT
BEGIN:STANDARD
TZOFFSETFROM:-0400
TZOFFSETTO:-0500
TZNAME:EST
DTSTART:20241103T060000
END:STANDARD
BEGIN:DAYLIGHT
TZOFFSETFROM:-0500
TZOFFSETTO:-0400
TZNAME:EDT
DTSTART:20250309T070000
END:DAYLIGHT
BEGIN:STANDARD
TZOFFSETFROM:-0400
TZOFFSETTO:-0500
TZNAME:EST
DTSTART:20251102T060000
END:STANDARD
BEGIN:DAYLIGHT
TZOFFSETFROM:-0500
TZOFFSETTO:-0400
TZNAME:EDT
DTSTART:20260308T070000
END:DAYLIGHT
BEGIN:STANDARD
TZOFFSETFROM:-0400
TZOFFSETTO:-0500
TZNAME:EST
DTSTART:20261101T060000
END:STANDARD
END:VTIMEZONE
BEGIN:VEVENT
DTSTART;TZID=America/New_York:20250515T163000
DTEND;TZID=America/New_York:20250515T200000
DTSTAMP:20260423T124619
CREATED:20250314T121048Z
LAST-MODIFIED:20250314T121048Z
UID:5544-1747326600-1747339200@clevelandcoatingssociety.org
SUMMARY:CCS Dinner Seminar 5/15/2025
DESCRIPTION:CCS Thursday 5/15/25 Dinner Seminar \nTickets $55/person \nPlatinum sponsorship $350 \nGold Sponsorship $200 \nSilver Sponsorship $100 \nLocation: Houlihan’s – Westlake\, OH \n25651 Detroit Rd\, Westlake\, OH 44145 \nAgenda: \n4:30-5:30PM Social Hour \n5:30-6:00PM Order Dinner \n6:00-6:45PM Technical Talk \n6:45-7:30PM Commercial Talk \nTechnical Talk \nSpeaker: Jeremy Pasatta\, VP of Technology and Processing at Advanced Polymer Coatings \nBio: Jeremy received his Bachelor of Science in Polymer Chemistry from Rochester Institute of Technology in 2000 and has completed graduate studies in Biochemistry at University of Texas\, Austin and Polymer Science at University of Akron. He has held positions at Eastman Kodak\, Lexmark International\, CVC Thermoset Specialties\, Valtris and Huntsman Corporation\, focusing on new product development and scale up\, manufacturing support and optimization\, technical services as well as sales and marketing support. Currently\, Jeremy is VP of Technology and Process at Advanced Polymer Coatings in Avon\, OH. Jeremy holds several patents related to tougheners for thermosets and new coating technology and has presented at numerous domestic and international conferences. Jeremy is also the immediate past-president of the Thermoset Resin Formulator’s Association (TRFA). \n“Next Level Epoxy Coatings: How to estimate and fine tune crosslink density for the optimum performance.” \nTalk Abstract: For use in demanding industrial and marine applications\, epoxy and thermoset coatings need to have extremely high chemical and thermal resistance along with high mechanical properties. One way to achieve these properties is to maximize the crosslink density of the coating. This presentation will review the fundamental concepts of crosslink density along with how to calculate and measure this critical property. A detailed case study will show how slight variations in molecular geometry can have an impact on final coating properties by affecting the crosslink density.
URL:https://clevelandcoatingssociety.org/event/ccs-dinner-seminar-5-15-2025/
LOCATION:Pine Brook Golf Course\, 11043 Durkee Rd\, Grafton\, Ohio\, 44044
CATEGORIES:In-Person
END:VEVENT
END:VCALENDAR