BEGIN:VCALENDAR
VERSION:2.0
PRODID:-//Cleveland Coatings Society - ECPv6.15.20//NONSGML v1.0//EN
CALSCALE:GREGORIAN
METHOD:PUBLISH
X-WR-CALNAME:Cleveland Coatings Society
X-ORIGINAL-URL:https://clevelandcoatingssociety.org
X-WR-CALDESC:Events for Cleveland Coatings Society
REFRESH-INTERVAL;VALUE=DURATION:PT1H
X-Robots-Tag:noindex
X-PUBLISHED-TTL:PT1H
BEGIN:VTIMEZONE
TZID:America/New_York
BEGIN:DAYLIGHT
TZOFFSETFROM:-0500
TZOFFSETTO:-0400
TZNAME:EDT
DTSTART:20230312T070000
END:DAYLIGHT
BEGIN:STANDARD
TZOFFSETFROM:-0400
TZOFFSETTO:-0500
TZNAME:EST
DTSTART:20231105T060000
END:STANDARD
BEGIN:DAYLIGHT
TZOFFSETFROM:-0500
TZOFFSETTO:-0400
TZNAME:EDT
DTSTART:20240310T070000
END:DAYLIGHT
BEGIN:STANDARD
TZOFFSETFROM:-0400
TZOFFSETTO:-0500
TZNAME:EST
DTSTART:20241103T060000
END:STANDARD
BEGIN:DAYLIGHT
TZOFFSETFROM:-0500
TZOFFSETTO:-0400
TZNAME:EDT
DTSTART:20250309T070000
END:DAYLIGHT
BEGIN:STANDARD
TZOFFSETFROM:-0400
TZOFFSETTO:-0500
TZNAME:EST
DTSTART:20251102T060000
END:STANDARD
END:VTIMEZONE
BEGIN:VEVENT
DTSTART;TZID=America/New_York:20240726T090000
DTEND;TZID=America/New_York:20240726T090000
DTSTAMP:20260423T124914
CREATED:20240710T045412Z
LAST-MODIFIED:20240711T015748Z
UID:4713-1721984400-1721984400@clevelandcoatingssociety.org
SUMMARY:CCS Volunteering: Shaker Heights Nature Center
DESCRIPTION:Click here to register for the event and make a donation.
URL:https://clevelandcoatingssociety.org/event/ccs-volunteering-shaker-heights-nature-center/
LOCATION:Nature Center a Shaker Heights\, 2600 South Park Boulevard\, Cleveland\, 44120\, United States
CATEGORIES:Volunteering
ATTACH;FMTTYPE=image/jpeg:https://clevelandcoatingssociety.org/wp-content/uploads/2024/07/abc.jpg
END:VEVENT
END:VCALENDAR