BEGIN:VCALENDAR
VERSION:2.0
PRODID:-//Cleveland Coatings Society - ECPv6.15.20//NONSGML v1.0//EN
CALSCALE:GREGORIAN
METHOD:PUBLISH
X-WR-CALNAME:Cleveland Coatings Society
X-ORIGINAL-URL:https://clevelandcoatingssociety.org
X-WR-CALDESC:Events for Cleveland Coatings Society
REFRESH-INTERVAL;VALUE=DURATION:PT1H
X-Robots-Tag:noindex
X-PUBLISHED-TTL:PT1H
BEGIN:VTIMEZONE
TZID:America/New_York
BEGIN:DAYLIGHT
TZOFFSETFROM:-0500
TZOFFSETTO:-0400
TZNAME:EDT
DTSTART:20230312T070000
END:DAYLIGHT
BEGIN:STANDARD
TZOFFSETFROM:-0400
TZOFFSETTO:-0500
TZNAME:EST
DTSTART:20231105T060000
END:STANDARD
BEGIN:DAYLIGHT
TZOFFSETFROM:-0500
TZOFFSETTO:-0400
TZNAME:EDT
DTSTART:20240310T070000
END:DAYLIGHT
BEGIN:STANDARD
TZOFFSETFROM:-0400
TZOFFSETTO:-0500
TZNAME:EST
DTSTART:20241103T060000
END:STANDARD
BEGIN:DAYLIGHT
TZOFFSETFROM:-0500
TZOFFSETTO:-0400
TZNAME:EDT
DTSTART:20250309T070000
END:DAYLIGHT
BEGIN:STANDARD
TZOFFSETFROM:-0400
TZOFFSETTO:-0500
TZNAME:EST
DTSTART:20251102T060000
END:STANDARD
END:VTIMEZONE
BEGIN:VEVENT
DTSTART;TZID=America/New_York:20241120T163000
DTEND;TZID=America/New_York:20241120T190000
DTSTAMP:20260423T142506
CREATED:20240812T012528Z
LAST-MODIFIED:20241103T233511Z
UID:4806-1732120200-1732129200@clevelandcoatingssociety.org
SUMMARY:CCS Tech Talk November 20\, 2024: Surface Treatment
DESCRIPTION:4:30pm: Social Hour\n5:00pm: Dinner\n5:30pm: Technical Talks \n7pm: Wrap up \nTechnical Talk – April Tang [Henkel] \nCommerical Tech Talk – Amanda Andrews [Wanhua Chemical (America) Co.\, LTD.] \n \nA Brief Introduction to Metal Pretreatment (What am I really painting?) \nAbstract: Metal surfaces need thorough cleaning and preparation to ensure proper bonding of a subsequent paint layer. However\, the pretreatment chemistry and morphology of the pretreated metal surface is sometimes overlooked. In this presentation\, a broad overview of cleaning and pretreatment chemistries will be discussed along with best practices that promote good paint adhesion\, minimize defects and provide corrosion protection. We will explore commonly-used processes in general and automotive industries. \nBiography: April Tang is a Surface Treatment Technical Manager at Henkel. She received her M.Sc. degree in Organic Chemistry from the University of Michigan in Ann Arbor. Prior to joining Henkel\, April held roles in R&D and Marketing at AkzoNobel. She brings her experience in paint chemistry to her current role\, where she provides technical expertise and support for Automotive OEM’s conversion coating processes\, focusing on innovations in sustainable metal pretreatment technology. \nOur Platinum Sponsor for this Tech Talk is…\n\n \n  \nWanhua Chemical’s Water-Based Solutions For Industrial Metal Coatings\n \nReference to presentation given at CPI in October 2024 \nAbstract: The metal finishing market continues to grow in volume and needs to have finishes like coatings to provide durability with a healthy appearance.   There is a high demand for materials to perform outside of the manufacturing facilities and not in adequate areas with ideal locations for a coating to be applied.  Examples could be near-loading docks\, exterior steel structures\, vehicles\, doors\, dumpsters\, or other items.  This article will introduce water-based solutions for metal coating\, mainly introducing a 1k solution for light-duty anti-corrosion and a 2k finishing coating solution for CASE market. \nBiography: Amanda has 20+ years in the coating industry.  Her passion for paint all started with her first job selling and mixing paint at a local hardware store. This led to her degree in Polymers and Coating Technology from Eastern Michigan University. Later she completed her Master of Chemistry in Materials & Chemical Synthesis from Illinois Institute of Technology. Amanda has had various experiences in and out of college working for ICI Paints\, Flint Ink\, Akzo Nobel Refinish\, BASF Refinish. In 2011\, she moved onto WACKER as a Chemist & Technical Manager creating new innovative silicone additives for the coating market for 10 years. Then she moved over to Sales within Coating at Michelman to support the growth of sustainable solutions. Most recently\, she has been the Technical Service and Business Director for their Polyurethane and Water-based Product business units. Wanhua Chemical
URL:https://clevelandcoatingssociety.org/event/tech-talk-november-20-2024-surface-treatment/
LOCATION:Flat Iron Cafe\, 1114 Center St\, Cleveland\, 44113\, United States
CATEGORIES:In-Person
ATTACH;FMTTYPE=image/png:https://clevelandcoatingssociety.org/wp-content/uploads/2023/10/Screenshot-2021-02-15-at-6.28.17-AM.png
END:VEVENT
END:VCALENDAR