BEGIN:VCALENDAR
VERSION:2.0
PRODID:-//Cleveland Coatings Society - ECPv6.15.20//NONSGML v1.0//EN
CALSCALE:GREGORIAN
METHOD:PUBLISH
X-WR-CALNAME:Cleveland Coatings Society
X-ORIGINAL-URL:https://clevelandcoatingssociety.org
X-WR-CALDESC:Events for Cleveland Coatings Society
REFRESH-INTERVAL;VALUE=DURATION:PT1H
X-Robots-Tag:noindex
X-PUBLISHED-TTL:PT1H
BEGIN:VTIMEZONE
TZID:America/New_York
BEGIN:DAYLIGHT
TZOFFSETFROM:-0500
TZOFFSETTO:-0400
TZNAME:EDT
DTSTART:20230312T070000
END:DAYLIGHT
BEGIN:STANDARD
TZOFFSETFROM:-0400
TZOFFSETTO:-0500
TZNAME:EST
DTSTART:20231105T060000
END:STANDARD
BEGIN:DAYLIGHT
TZOFFSETFROM:-0500
TZOFFSETTO:-0400
TZNAME:EDT
DTSTART:20240310T070000
END:DAYLIGHT
BEGIN:STANDARD
TZOFFSETFROM:-0400
TZOFFSETTO:-0500
TZNAME:EST
DTSTART:20241103T060000
END:STANDARD
BEGIN:DAYLIGHT
TZOFFSETFROM:-0500
TZOFFSETTO:-0400
TZNAME:EDT
DTSTART:20250309T070000
END:DAYLIGHT
BEGIN:STANDARD
TZOFFSETFROM:-0400
TZOFFSETTO:-0500
TZNAME:EST
DTSTART:20251102T060000
END:STANDARD
END:VTIMEZONE
BEGIN:VEVENT
DTSTART;TZID=America/New_York:20240919T160000
DTEND;TZID=America/New_York:20240919T200000
DTSTAMP:20260423T124433
CREATED:20230707T182252Z
LAST-MODIFIED:20240913T213918Z
UID:3354-1726761600-1726776000@clevelandcoatingssociety.org
SUMMARY:2024 Whing Ding
DESCRIPTION:
URL:https://clevelandcoatingssociety.org/event/whing-ding-2024/
LOCATION:German Central Foundation\, 7863 York Rd.\, Parma\, Ohio\, 44130
CATEGORIES:In-Person
ATTACH;FMTTYPE=image/png:https://clevelandcoatingssociety.org/wp-content/uploads/2023/07/1-1.png
END:VEVENT
END:VCALENDAR