BEGIN:VCALENDAR
VERSION:2.0
PRODID:-//Cleveland Coatings Society - ECPv6.15.20//NONSGML v1.0//EN
CALSCALE:GREGORIAN
METHOD:PUBLISH
X-WR-CALNAME:Cleveland Coatings Society
X-ORIGINAL-URL:https://clevelandcoatingssociety.org
X-WR-CALDESC:Events for Cleveland Coatings Society
REFRESH-INTERVAL;VALUE=DURATION:PT1H
X-Robots-Tag:noindex
X-PUBLISHED-TTL:PT1H
BEGIN:VTIMEZONE
TZID:America/New_York
BEGIN:DAYLIGHT
TZOFFSETFROM:-0500
TZOFFSETTO:-0400
TZNAME:EDT
DTSTART:20250309T070000
END:DAYLIGHT
BEGIN:STANDARD
TZOFFSETFROM:-0400
TZOFFSETTO:-0500
TZNAME:EST
DTSTART:20251102T060000
END:STANDARD
BEGIN:DAYLIGHT
TZOFFSETFROM:-0500
TZOFFSETTO:-0400
TZNAME:EDT
DTSTART:20260308T070000
END:DAYLIGHT
BEGIN:STANDARD
TZOFFSETFROM:-0400
TZOFFSETTO:-0500
TZNAME:EST
DTSTART:20261101T060000
END:STANDARD
BEGIN:DAYLIGHT
TZOFFSETFROM:-0500
TZOFFSETTO:-0400
TZNAME:EDT
DTSTART:20270314T070000
END:DAYLIGHT
BEGIN:STANDARD
TZOFFSETFROM:-0400
TZOFFSETTO:-0500
TZNAME:EST
DTSTART:20271107T060000
END:STANDARD
END:VTIMEZONE
BEGIN:VEVENT
DTSTART;TZID=America/New_York:20260416T163000
DTEND;TZID=America/New_York:20260416T200000
DTSTAMP:20260423T124602
CREATED:20260107T215811Z
LAST-MODIFIED:20260307T190653Z
UID:6245-1776357000-1776369600@clevelandcoatingssociety.org
SUMMARY:CCS Dinner Seminar - April 2026
DESCRIPTION:CCS Tech Talk – April 16\, 2026 \nThank You To Our Platinum Sponsor\n \nThank You To Our Silver Sponsor\n \nTickets $60/person \nFood Included & Drinks Separate \nPlatinum sponsorship $400 \nGold Sponsorship $250 \nSilver Sponsorship $150 \nLocation: Houlihan’s Westlake\, OH – 25651 Detroit Rd\, Westlake\, OH 44145 \nAgenda: \n4:30-5:30 PM Social Hour \n5:30-6:00 PM Order Dinner \n6:00-6:45 PM Technical Talk \n6:45-7:30 PM Commercial Talk \nTechnical Talk\nMaximizing Pigment and Overall Paint Performance with Multifunctional Additives  \nDick Henderson is a Senior Technical Applications Specialist with Advancion in Buffalo Grove\, IL with 43 years of experience in the paint and coatings industry. He began his career in New England at Polyvinyl Chemicals (Covestro) as a technical service chemist in the 1980’s. Dick has worked in a diverse array of additive\, resin and coatings companies including Elementis Specialties\, Ashland\, Reichhold\, Cabot Stains and AKZO Nobel in various technical and managerial positions. He is an experienced formulator for waterborne and solvent borne applications in the architectural\, wood finishes\, automotive and industrial markets. Dick graduated from Merrimack College with a BS degree in Biochemistry.\n  \nDeveloping high-performance formulations with minimal VOC emissions remains a challenge for formulators across a variety of paints and coatings applications. Alkanolamines\, which are well-known for their exceptional ability to wet\, grind\, and stabilize a wide range of pigments\, can help formulators achieve an optimal blend of other wetting and dispersing agents\, while reducing the overall VOC profile of a formulation. With their innate affinity for pigment surfaces and the ability to substitute conventional counter ions of surfactants and dispersing agents\, alkanolamine additives play an essential role in influencing\, and improving various critical aspects of paint and dry-film performance\, such as initial particle size distribution\, storage stability\, hiding power\, corrosion protection\, and color strength. The measurement of the natural chemisorption of several alkanolamines at the surface of various pigments enable better selection of the optimal structure versus pigment nature. Moreover\, particle size distribution of waterborne pigment slurries supports the optimization of dispersing agent selection for higher dry film properties. This comprehensive investigation uncovers new ways to leverage the true potential of the unique characteristics of alkanolamines when interacting with TiO2\, organic pigments\, and anti-corrosion pigments\, making them an indispensable formulating tool for developing and manufacturing the next generation of high-performance paints and coatings.\nKey-Words: Alkanolamine\, Organic Pigment\, Inorganic Pigment\, Anti-corrosion\, Dispersion\, Grinding\n \nWine\, Whisky and Coffee and their Role in Additive Selection for Coatings  \nJim Reader – Senior Technical Manager\, Industrial and Transportation Coatings  \nJim Reader graduated from the University of Warwick (UK) in 1988 with a Ph.D. in Chemistry. He joined Air Products and Chemicals in 1988 in Manchester (UK) as a Research Chemist and later an Application Development Chemist for the Epoxy Additives business. He then became Technical Manager for the Air Products Specialty Additives business in 1996 based in Utrecht\, the Netherlands\, and has worked in Europe and Asia before becoming a Lead Chemist in Allentown\, PA in 2008. Dr. Jim Reader joined Evonik Corporation as a Senior Technical Manager in January 2017.  He has extensive experience in the both the development and application of surfactants and defoamers in many different applications including paints\, coatings\, graphic arts\, adhesives\, concrete admixtures\, and the production of latex gloves.  He is the inventor of one patent and has written over 30 technical papers.  \n  \nThe benefits to the formulator of wine\, whisky and coffee are well known – coffee to help waken the formulator at the start of the day and wine or whisky to celebrate or commiserate over the day’s results. However\, the tears of wine and the coffee stain effect are also well known examples of the Marangoni effect\, an important physical phenomenon also seen in paints and coatings that are related to similar phenomena\, often with undesirable consequences. Both are examples of liquid flow induced by surface tension forces. Surface tension driven flow is a real force\, created by localized differences in liquid and substrate surface tensions\, that create surface defects and a hangover for the paint and coating formulator. However\, by understanding how other formulation properties affect this flow\, formulators can identify potential problems and find additive solutions faster.
URL:https://clevelandcoatingssociety.org/event/ccs-dinner-seminar-4-16-2026/
CATEGORIES:In-Person
END:VEVENT
END:VCALENDAR